BEGIN:VCALENDAR
VERSION:2.0
PRODID:-//MEDahead- Fortbildung für Ärzte - ECPv6.6.1//NONSGML v1.0//EN
CALSCALE:GREGORIAN
METHOD:PUBLISH
X-ORIGINAL-URL:https://medahead-fortbildung.at
X-WR-CALDESC:Veranstaltungen für MEDahead- Fortbildung für Ärzte
REFRESH-INTERVAL;VALUE=DURATION:PT1H
X-Robots-Tag:noindex
X-PUBLISHED-TTL:PT1H
BEGIN:VTIMEZONE
TZID:Europe/Vienna
BEGIN:DAYLIGHT
TZOFFSETFROM:+0100
TZOFFSETTO:+0200
TZNAME:CEST
DTSTART:20230326T010000
END:DAYLIGHT
BEGIN:STANDARD
TZOFFSETFROM:+0200
TZOFFSETTO:+0100
TZNAME:CET
DTSTART:20231029T010000
END:STANDARD
BEGIN:DAYLIGHT
TZOFFSETFROM:+0100
TZOFFSETTO:+0200
TZNAME:CEST
DTSTART:20240331T010000
END:DAYLIGHT
BEGIN:STANDARD
TZOFFSETFROM:+0200
TZOFFSETTO:+0100
TZNAME:CET
DTSTART:20241027T010000
END:STANDARD
BEGIN:DAYLIGHT
TZOFFSETFROM:+0100
TZOFFSETTO:+0200
TZNAME:CEST
DTSTART:20250330T010000
END:DAYLIGHT
BEGIN:STANDARD
TZOFFSETFROM:+0200
TZOFFSETTO:+0100
TZNAME:CET
DTSTART:20251026T010000
END:STANDARD
BEGIN:DAYLIGHT
TZOFFSETFROM:+0100
TZOFFSETTO:+0200
TZNAME:CEST
DTSTART:20260329T010000
END:DAYLIGHT
BEGIN:STANDARD
TZOFFSETFROM:+0200
TZOFFSETTO:+0100
TZNAME:CET
DTSTART:20261025T010000
END:STANDARD
END:VTIMEZONE
BEGIN:VEVENT
DTSTART;TZID=Europe/Vienna:20260228T090000
DTEND;TZID=Europe/Vienna:20260228T160000
DTSTAMP:20260421T095700
CREATED:20250827T131729Z
LAST-MODIFIED:20260226T082041Z
UID:10000349-1772269200-1772294400@medahead-fortbildung.at
SUMMARY:Best of Dermatology 2026
DESCRIPTION:VORSITZ\nUNIV.-PROF. DR. GEORG STINGL\nUniversitätsklinik für Dermatologie\, Medizinische Universität Wien \nUNIV.- PROF. DR. FRANZ TRAUTINGER\nAbteilung für Haut- und Geschlechtskrankheiten\, Universitätsklinikum St. Pölten \nPROGRAMM\n\n\n\nLupus erythematodes und mehr \nPriv.-Doz.in Mag.a Dr.in Barbara Böckle Universitätsklinik für Dermatologie\, Venerologie und Allergologie\, Medizinische Universität Innsbruck\n\n\nMpox – von der Epidemiologie zur klinischen Praxis \nAssoc. Prof.in Priv.-Doz.in Dr.in Katharina Grabmeier-Pfistershammer Universitätsklinik für Dermatologie\, Medizinische Universität Wien\n\n\nKIT und BTK als therapeutische Targets in Mastzell-Aktivierungs- Erkrankungen\nUniv.-Prof. Dr.med.univ. Peter Valent Universitätsklinik für Innere Medizin I\, Medizinische Universität Wien\n\n\nTherapieoptionen und Differentialdiagnosen der Urtikaria\nKlin.-Prof.in DDr.in Sabine Altrichter Universitätsklinik für Dermatologie und Venerologie\, Kepler Universitätsklinikum in Linz\n\n\nHidradenitis Suppurativa: Update \nUniv.-Prof. Dr.med. Robert Sabat Klinik für Dermatologie\, Venerologie und Allergologie\, Charité – Universitätsmedizin Berlin\n\n\nPhotodynamische Therapie: Was kann sie und was kann sie nicht? \nProf. Dr. Rolf-Markus Szeimies Klinik für Dermatologie und Allergologie\, Knappschaft Kliniken Recklinghausen\n\n\nProbiotika\nUniv.-Prof. Dr.med.univ. Peter Wolf Universitätsklinik für Dermatologie und Venerologie\, Medizinische Universität Graz\n\n\nWundheilung und Wundmanagement\nPrim. Prof. Dr.med. Bernhard Lange-Asschenfeldt Abteilung für Dermatologie und Venerologie\, Klinikum Klagenfurt am Wörthersee\n\n\n\nDie Anmeldung ist bereits geschlossen\, sollten Sie Interesse an einer Teilnahme haben wenden Sie sich bitte per Mail an k.wladarsch@medahead.at \nBitte haben Sie Verständnis\, dass laut Regelwerk der Ärztekammer (Ärztlicher Verhaltenskodex) und Pharmaindustrie (Pharmig Verhaltenskodex) diese Einladung ausschließlich für Ausübende von Gesundheitsberufen gilt\, und ist nicht übertragbar ist. Für Amtsträgerinnen und Amtsträger im Sinne von § 74 Abs 1 Z 4a StGB gilt: Mit Ihrer Anmeldung oder Teilnahme bestätigen Sie\, dass Sie Ihre Arbeitgeberin/Ihr Arbeitgeber zur Teilnahme an dieser Veranstaltung nominiert hat und ein dienstliches Interesse an Ihrer Teilnahme besteht. \n  \nMit freundlicher Unterstützung von \n[layerslider id=”112″]
URL:https://medahead-fortbildung.at/event/best-of-dermatology-2026/
LOCATION:Courtyard by Marriott Vienna Prater/Messe\, Trabrennstraße 4\, Wien\, 1020\, Österreich
CATEGORIES:Dermatologie,Wundmanagement
ATTACH;FMTTYPE=image/jpeg:https://medahead-fortbildung.at/wp-content/uploads/2025/08/F-Banner_1280x412px-2.jpg
END:VEVENT
BEGIN:VEVENT
DTSTART;TZID=Europe/Vienna:20241019T090000
DTEND;TZID=Europe/Vienna:20241019T164500
DTSTAMP:20260421T095700
CREATED:20250623T100023Z
LAST-MODIFIED:20250623T100023Z
UID:10000324-1729328400-1729356300@medahead-fortbildung.at
SUMMARY:Best of Dermatology 2024
DESCRIPTION:VORSITZ\nUNIV.-PROF. DR. GEORG STINGL \nUniversitätsklinik für Dermatologie\, Medizinische Universität Wien \nUNIV.- PROF. DR. FRANZ TRAUTINGER \nAbteilung für Haut- und Geschlechtskrankheiten\, Universitätsklinikum St. Pölten \nTHEMENSCHWERPUNKTE\n• Chirurgische vs. pharmakologische Therapie der Hidradenitis suppurativa \n• Genitaldermatosen \n• Melanom \n• Nagel und Nagelfalz – eine dermatologisch-rheumatische Schnittstelle \n• Probiotika \n• Reisedermatosen \n• Sklerosierende Hauterkrankungen \n• Urtikaria \n  \nDownload: Einladung und Programm \n  \n\n  \nTeilnahme kostenfrei! Anmeldung erforderlich! \nBitte haben Sie Verständnis\, dass aufgrund der geltenden Pharmig-\, Novartis und Ärztekammer-Verhaltenskodizes die Teilnahme nur für Ausübende von Gesundheitsberufen möglich ist. \n  \nBitte beachten Sie dass die Plätze limitiert sind! \n  \n  \nIn Kooperation mit \n[layerslider id=”112″]
URL:https://medahead-fortbildung.at/event/best-of-dermatology-2024/
LOCATION:Courtyard by Marriott Vienna Prater/Messe\, Trabrennstraße 4\, Wien\, 1020\, Österreich
CATEGORIES:Dermatologie
ATTACH;FMTTYPE=image/jpeg:https://medahead-fortbildung.at/wp-content/uploads/2025/06/Best-of-Derma_F-Banner_1280x412px-1.jpg
END:VEVENT
BEGIN:VEVENT
DTSTART;TZID=Europe/Vienna:20240126T160000
DTEND;TZID=Europe/Vienna:20240127T130000
DTSTAMP:20260421T095700
CREATED:20220809T134100Z
LAST-MODIFIED:20230719T094510Z
UID:10000069-1706284800-1706360400@medahead-fortbildung.at
SUMMARY:MS Insights 9
DESCRIPTION:  \n\nDownload: SavetheDate_MS Insights 9_2024 \nProgramm folgt in Kürze! \n  \nAnrechenbarkeit der Fortbildung:\nEine DFP-Approbation ist vorgesehen. \n  \n\n  \nDetails zur Veranstaltung: \nEintritt frei! Anmeldung erforderlich bis 08. Jänner 2024. Diese Veranstaltung ist nur für medizinisches Fachpersonal.\nBitte geben Sie bei der Anmeldung Ihre ÖÄK-Arztnummer bekannt. \n  \nKongressbüro/Kontakt: \nMEDahead Gesellschaft für medizinische Information m.b.H.\nSeidengasse 9/Top 1.3\, 1070 Wien\nAnsprechperson: Barbara Mandlburger\nTel.: 01/607 02 33-719\, b.mandlburger@medahead.at
URL:https://medahead-fortbildung.at/event/ms-insights/
LOCATION:Courtyard by Marriott Vienna Prater/Messe\, Trabrennstraße 4\, Wien\, 1020\, Österreich
CATEGORIES:Neurologie
ATTACH;FMTTYPE=image/jpeg:https://medahead-fortbildung.at/wp-content/uploads/F-Banner_1280x412px_freigegeben.jpg
END:VEVENT
BEGIN:VEVENT
DTSTART;TZID=Europe/Vienna:20230916T090000
DTEND;TZID=Europe/Vienna:20230916T154500
DTSTAMP:20260421T095700
CREATED:20220714T114506Z
LAST-MODIFIED:20250617T074640Z
UID:10000061-1694854800-1694879100@medahead-fortbildung.at
SUMMARY:Best of Neurology 2023
DESCRIPTION:Programm und Einladung: Download \n  \n  \nVorsitz und wissenschaftliche Leitung \nPrim.a Priv.-Doz.in Dr.in Julia Ferrari\nPrim. Univ.-Prof. Dr. Jörg R. Weber \n  \nReferent:innen\n \nMultiple Sklerose / NMOSD \nUniv.-Prof. Priv.-Doz. Dr. MBA Christian Enzinger\, MedUni Graz \n  \nStroke \nPrim.a Priv.-Doz.in Dr.in Julia Ferrari\, Barmherzige Brüder Wien \n  \nMorbus Parkinson  \nPrim. Priv.-Doz. Dr. Regina Katzenschlager\, Klinik Donaustadt Wien \n  \nNeuroonkologie \nPrim. Assoc. Prof. PD Dr. Stefan Oberndorfer\, FEAN\, Universitätsklinikum St. Pölten \n  \nKopfschmerz \nDr.in Sonja-Maria Tesar\, Klinikum Klagenfurt/ LKH Wolfsberg \n  \nMyasthenia gravis \nPrim. Priv.-Doz. Dr. Raffi Topakian\, Klinikum Wels-Grieskirchen \n  \n  \nDie Teilnahme an der Fortbildung ist kostenlos. \n  \nAnmeldung erforderlich. \nDiese Veranstaltung ist ausschließlich für medizinische Fachpersonal vorgesehen. Bitte geben Sie bei einer Anmeldung Ihre ÖÄK-Arztnummer bekannt. \n  \nAnreise- und Hotelkosten können nicht übernommen werden. \n  \n\nIn Kooperation mit \n[layerslider id=”112″]
URL:https://medahead-fortbildung.at/event/best-of-neurology-2023/
LOCATION:Courtyard by Marriott Vienna Prater/Messe\, Trabrennstraße 4\, Wien\, 1020\, Österreich
CATEGORIES:Neurologie
ATTACH;FMTTYPE=image/jpeg:https://medahead-fortbildung.at/wp-content/uploads/F-Banner_1280x412px-16.jpg
END:VEVENT
END:VCALENDAR