BEGIN:VCALENDAR
VERSION:2.0
PRODID:-//MEDahead- Fortbildung für Ärzte - ECPv6.6.1//NONSGML v1.0//EN
CALSCALE:GREGORIAN
METHOD:PUBLISH
X-WR-CALNAME:MEDahead- Fortbildung für Ärzte
X-ORIGINAL-URL:https://medahead-fortbildung.at
X-WR-CALDESC:Veranstaltungen für MEDahead- Fortbildung für Ärzte
REFRESH-INTERVAL;VALUE=DURATION:PT1H
X-Robots-Tag:noindex
X-PUBLISHED-TTL:PT1H
BEGIN:VTIMEZONE
TZID:Europe/Vienna
BEGIN:DAYLIGHT
TZOFFSETFROM:+0100
TZOFFSETTO:+0200
TZNAME:CEST
DTSTART:20210328T010000
END:DAYLIGHT
BEGIN:STANDARD
TZOFFSETFROM:+0200
TZOFFSETTO:+0100
TZNAME:CET
DTSTART:20211031T010000
END:STANDARD
BEGIN:DAYLIGHT
TZOFFSETFROM:+0100
TZOFFSETTO:+0200
TZNAME:CEST
DTSTART:20220327T010000
END:DAYLIGHT
BEGIN:STANDARD
TZOFFSETFROM:+0200
TZOFFSETTO:+0100
TZNAME:CET
DTSTART:20221030T010000
END:STANDARD
BEGIN:DAYLIGHT
TZOFFSETFROM:+0100
TZOFFSETTO:+0200
TZNAME:CEST
DTSTART:20230326T010000
END:DAYLIGHT
BEGIN:STANDARD
TZOFFSETFROM:+0200
TZOFFSETTO:+0100
TZNAME:CET
DTSTART:20231029T010000
END:STANDARD
BEGIN:DAYLIGHT
TZOFFSETFROM:+0100
TZOFFSETTO:+0200
TZNAME:CEST
DTSTART:20240331T010000
END:DAYLIGHT
BEGIN:STANDARD
TZOFFSETFROM:+0200
TZOFFSETTO:+0100
TZNAME:CET
DTSTART:20241027T010000
END:STANDARD
BEGIN:DAYLIGHT
TZOFFSETFROM:+0100
TZOFFSETTO:+0200
TZNAME:CEST
DTSTART:20250330T010000
END:DAYLIGHT
BEGIN:STANDARD
TZOFFSETFROM:+0200
TZOFFSETTO:+0100
TZNAME:CET
DTSTART:20251026T010000
END:STANDARD
END:VTIMEZONE
BEGIN:VEVENT
DTSTART;TZID=Europe/Vienna:20251008T143000
DTEND;TZID=Europe/Vienna:20251008T183000
DTSTAMP:20260420T154316
CREATED:20250325T092109Z
LAST-MODIFIED:20251006T121650Z
UID:10000283-1759933800-1759948200@medahead-fortbildung.at
SUMMARY:Wrap-Up Diabetologie 2025 - vor Ort
DESCRIPTION:ACC |ADA | ATTD | EAS | EASD |ECO 2025\nÖsterreichische Expert:innen präsentieren aktuelle Highlights in einer Veranstaltung der ÖDG\nVorsitz : Prim. Univ.-Prof. Dr. Peter Fasching \nCo-Vorsitz: Priv.-Doz.in Dr.in Gersina Rega-Kaun \n\nDie Vor-Ort Anmeldung ist geschlossen. \nBitte melden Sie sich für die online-Teilnahme an oder senden Sie ein  ein Mail an die Projektverantwortliche (s.adalsteinsson@medahead.at). \n  \nWir danken den Sponsoren: \n[layerslider id=”265″] \n\nWenn Sie diese Fortbildung als Sponsor unterstützen möchten\, senden Sie HIER ein Mail an Sales \n\n 
URL:https://medahead-fortbildung.at/event/wrap-up-diabetologie-vorort/
LOCATION:Studio 7Vorne\, Wien\, Breite Gasse 11\, Wien\, 1070\, Österreich
CATEGORIES:Allgemeinmedizin,Diabetologie,Innere Medizin,Stoffwechselerkrankungen
ATTACH;FMTTYPE=image/jpeg:https://medahead-fortbildung.at/wp-content/uploads/2025/03/F-Banner_Wrap-Up-Diabetologie2025_1280x412px.jpg
ORGANIZER;CN="%C3%96sterreichische Diabetes Gesellschaft":MAILTO:office@oedg.at
GEO:47.0694478;15.4343263
X-APPLE-STRUCTURED-LOCATION;VALUE=URI;X-ADDRESS=Studio 7Vorne Wien Breite Gasse 11 Wien 1070 Österreich;X-APPLE-RADIUS=500;X-TITLE=Breite Gasse 11:geo:15.4343263,47.0694478
END:VEVENT
BEGIN:VEVENT
DTSTART;TZID=Europe/Vienna:20211008T171500
DTEND;TZID=Europe/Vienna:20211009T140000
DTSTAMP:20260420T154316
CREATED:20210712T115245Z
LAST-MODIFIED:20220301T180515Z
UID:10000007-1633713300-1633788000@medahead-fortbildung.at
SUMMARY:20. Jahre Differentialdiagnose der MS
DESCRIPTION:Rückschau\, Standortbestimmung\, Zukunftsausblick\n  \nFreitag: 17:15 – 19:30 Uhr \nSamstag: 08:15 – 14:00 \n  \nWissenschaftliche Organisation: \nUniv.-Prof. Priv.-Doz. Dr. Christian Enzinger\, MBA\nLeiter der Abteilung für Allgemeine Neurologie\, Universitätsklinik für Neurologie\, Medizinische Universität Graz \nAssoz.-Prof. Priv. Doz. Dr. Michael Khalil\, PhD\nUniversitätsklinik für Neurologie\, Medizinische Universität Graz  \n  \nÄrztlicher Fortbildungsanbieter:\nUniv.-Klinik für Neurologie\, Medizinische Universität Graz \n  \nDFP-Approbation:\nDFP-approbierte Fortbildung. (8 Punkte ID: 717853) \n  \nDownload: Einladung inkl. Programm \n  \nTeilnahme an der Veranstaltung und am WEBseminar kostenfrei. Anmeldung unbedingt erforderlich! \nBitte beachten Sie\, dass die Plätze für eine Vor-Ort Teilnahme limitiert sind! \n  \nDetails zur Vor-Ort-Veranstaltung: \nBei der Planung der Vor-Ort-Veranstaltung im Hotel Weitzer halten wir uns an alle vorgegebenen Covid-19-Sicherheitsvorkehrungen.\nVor Ort werden die Nachweise je nach geltenden rechtlichen Vorgaben abgefragt (derzeit „3G“-Nachweis). \n  \nZeitgerecht vor der Veranstaltung werden wir Sie über die aktuellen Covid-19 Präventionsmaßnahmen informieren.\nBitte kommen Sie nur zur Veranstaltung wenn Sie sich gesund fühlen. Wenn Sie möglicherweise Kontakt zu bestätigten Fällen hatten oder sich selbst krank fühlen ist eine Umbuchung auf das Webinar problemlos möglich. Bitte nehmen Sie dafür Kontakt mit uns auf (t.kirchmayer@medahead.at). \n  \nDetails zum WEBseminar via Live-Stream: \nNach Ihrer Anmeldung auf der Website\, erhalten Sie zusätzlich zeitnahe zur Fortbildung per Mail einen Link sowie eine Kurz-Anleitung für die Online-Teilnahme am WEBseminar.\nFragen an die Referenten können während des WEBseminars via Chat-Funktion gestellt werden.\nHinweis: Das Login zum WEBseminar mit Computern der KAGes-Gruppe ist aus technischen Gründen nicht möglich. \n  \n  \n  \n  \nAnmeldung zur vor Ort Veranstaltung:
URL:https://medahead-fortbildung.at/event/workshop-differentialdiagnose-ms-2021/
LOCATION:Studio 7Vorne\, Wien\, Breite Gasse 11\, Wien\, 1070\, Österreich
CATEGORIES:Neurologie
ATTACH;FMTTYPE=image/jpeg:https://medahead-fortbildung.at/wp-content/uploads/Mer_eve_DD-2021-scaled.jpg
GEO:47.0694478;15.4343263
X-APPLE-STRUCTURED-LOCATION;VALUE=URI;X-ADDRESS=Studio 7Vorne Wien Breite Gasse 11 Wien 1070 Österreich;X-APPLE-RADIUS=500;X-TITLE=Breite Gasse 11:geo:15.4343263,47.0694478
END:VEVENT
END:VCALENDAR