BEGIN:VCALENDAR
VERSION:2.0
PRODID:-//MEDahead- Fortbildung für Ärzte - ECPv6.6.1//NONSGML v1.0//EN
CALSCALE:GREGORIAN
METHOD:PUBLISH
X-ORIGINAL-URL:https://medahead-fortbildung.at
X-WR-CALDESC:Veranstaltungen für MEDahead- Fortbildung für Ärzte
REFRESH-INTERVAL;VALUE=DURATION:PT1H
X-Robots-Tag:noindex
X-PUBLISHED-TTL:PT1H
BEGIN:VTIMEZONE
TZID:Europe/Vienna
BEGIN:DAYLIGHT
TZOFFSETFROM:+0100
TZOFFSETTO:+0200
TZNAME:CEST
DTSTART:20260329T010000
END:DAYLIGHT
BEGIN:STANDARD
TZOFFSETFROM:+0200
TZOFFSETTO:+0100
TZNAME:CET
DTSTART:20261025T010000
END:STANDARD
END:VTIMEZONE
BEGIN:VEVENT
DTSTART;TZID=Europe/Vienna:20260429T153000
DTEND;TZID=Europe/Vienna:20260429T200000
DTSTAMP:20260421T030814
CREATED:20251215T140105Z
LAST-MODIFIED:20260420T091332Z
UID:10000376-1777476600-1777492800@medahead-fortbildung.at
SUMMARY:Wiener Blut – Special für Jungärzt:innen 2026
DESCRIPTION:Austausch und Vernetzung – Jungärzt:innen aus unterschiedlichen Kliniken im Dialog \n\nWissenschaftliche Leitung: \n\nPrim. Univ.-Prof. Dr. Felix Keil\nPrim. Doz. Dr. Hannes Kaufmann\n\nCo-Vorsitz: \n\nPrim.a Priv.-Doz.in Dr.in Claudia Rintelen-Denk\nPrim. Univ.-Doz. Dr. Christoph Wenisch\n\nThemen: \n\nBispezifische Antikörper & CAR-T beim Multiplen Myelom\nBispezifische Antikörper & CAR-T beim Lymphom\nAML & febrile Neutropenie\nSolide Tumore\n\n\nWir danken unseren Sponsoren: \n  \n[layerslider id=”295″]
URL:https://medahead-fortbildung.at/event/wiener-blut-special-fuer-jungaerztinnen_26/
LOCATION:Haus der Ingenieure\, Eschenbachgasse 9\, Wien\, 1010\, Österreich
CATEGORIES:Allgemeinmedizin,Hämatoonkologie,Onkologie
ATTACH;FMTTYPE=image/jpeg:https://medahead-fortbildung.at/wp-content/uploads/2025/12/F-Banner_1280x412px-3.jpg
ORGANIZER;CN="Onconovum.academy %E2%80%93 OeGHO Akademie f%C3%BCr Aus- und Fortbildung GmbH":MAILTO:academy@onconovum.at
GEO:48.2020415;16.3634656
X-APPLE-STRUCTURED-LOCATION;VALUE=URI;X-ADDRESS=Haus der Ingenieure Eschenbachgasse 9 Wien 1010 Österreich;X-APPLE-RADIUS=500;X-TITLE=Eschenbachgasse 9:geo:16.3634656,48.2020415
END:VEVENT
BEGIN:VEVENT
DTSTART;TZID=Europe/Vienna:20260520T153000
DTEND;TZID=Europe/Vienna:20260520T194500
DTSTAMP:20260421T030814
CREATED:20250414T082115Z
LAST-MODIFIED:20260413T125149Z
UID:10000290-1779291000-1779306300@medahead-fortbildung.at
SUMMARY:NEURO FORUM 2026
DESCRIPTION:Vorsitz:\nPrim.a Ao. Univ.-Prof.in Dr.in Elisabeth Fertl \nNeurologische Abteilung\, Wiener Gesundheitsverbund\, Klinik Landstraße \n  \n\n\n\nAb 15:30 Uhr\nRegistrierung und Besuch der Industrie-Ausstellung\n\n\n16:00–16:10 Uhr\nBegrüßung und Eröffnung\n\n\n16:10–16:55 Uhr\nALZHEIMER\nAssoc. Prof.in Priv.-Doz. in Dr.in Elisabeth Stögmann\nUniversitätsklinik für Neurologie\, Medizinische Universität Wien\n\n\n16:55–17:40 Uhr\nNEUROMUSKULÄRE ERKRANKUNGEN ALS/SPINALE MUSKELATROPHIE\nAp. Prof. Priv.-Doz. Dr. Hakan Cetin\, D.Phil\nUniversitätsklinik für Neurologie\, Medizinische Universität Wien\n\n\n\n17:40–18:10 Uhr\nPause und Besuch der Industrie-Ausstellung\n\n\n\n18:10–18:55 Uhr\n\nEPILEPSIE\nApl. Prof. Priv.-Doz. Dr. Markus Leitinger\, MSc\nUniversitätsklinik für Neurologie\, neurologische Intensivmedizin und Neurorehabilitation\, Christian-Doppler-Klinik\, Salzburg\n\n\n\n18:55-19:40 Uhr\n\nPARKINSON\nDr. Christof Brücke\, PhD\nUniversitätsklinik für Neurologie\, Medizinische Universität Wien\n\n\n\n19:40–19:45 Uhr\n\nSchlussworte und Verabschiedung\n\n\n\n\nAb 19:45 Uhr\n\n\nGet together bei Fingerfood\n\n\n\n*Programmänderungen vorbehalten! \n  \nHinweis der Sponsoren: \nWenn Sie weitere Informationen erhalten wollen\, besuchen Sie gerne die Website von Biogen. \n  \nMit freundlicher Unterstützung von: \n[layerslider id=”285″] \n 
URL:https://medahead-fortbildung.at/event/neuro-forum/
LOCATION:Haus der Ingenieure\, Eschenbachgasse 9\, Wien\, 1010\, Österreich
CATEGORIES:Neurologie
ATTACH;FMTTYPE=image/jpeg:https://medahead-fortbildung.at/wp-content/uploads/2025/04/2026_Neurologie-Forum_F-Banner_1280x412px-1.jpg
GEO:48.2020415;16.3634656
X-APPLE-STRUCTURED-LOCATION;VALUE=URI;X-ADDRESS=Haus der Ingenieure Eschenbachgasse 9 Wien 1010 Österreich;X-APPLE-RADIUS=500;X-TITLE=Eschenbachgasse 9:geo:16.3634656,48.2020415
END:VEVENT
BEGIN:VEVENT
DTSTART;TZID=Europe/Vienna:20260922T160000
DTEND;TZID=Europe/Vienna:20260922T193000
DTSTAMP:20260421T030814
CREATED:20260324T091633Z
LAST-MODIFIED:20260324T091712Z
UID:10000402-1790092800-1790105400@medahead-fortbildung.at
SUMMARY:Fokus Gynäkologie 2026
DESCRIPTION:Gynäkologische Themenbereiche aus verschiedenen Blickwinkeln \n \nAus der Wissenschaft in die Praxis \nWissenschaftliche Leitung: Ao. Univ.-Prof. Dr. Günther Häusler \nThemenschwerpunkte:  \n\nMenopausale Hormontherapie 2026\nVasomotorische Symptome im Fokus\nMammakarzinom 2026\nGestagene und Meningeomrisiko\nNeue Therapieansätze beim platin-resistenten Ovarialkarzinom\nRekurrierendes/metastasiertes Zervixkarzinom\n\nTeilnahme kostenfrei. \n  \n\nWenn Sie diese Fortbildung als Sponsor unterstützen möchten\, senden Sie HIER ein Mail an Sales
URL:https://medahead-fortbildung.at/event/fokus-gynaekologie-2026/
LOCATION:Haus der Ingenieure\, Eschenbachgasse 9\, Wien\, 1010\, Österreich
CATEGORIES:Gynäkologie
ATTACH;FMTTYPE=image/jpeg:https://medahead-fortbildung.at/wp-content/uploads/2026/03/F-Banner_1280x412px-2.jpg
GEO:48.2020415;16.3634656
X-APPLE-STRUCTURED-LOCATION;VALUE=URI;X-ADDRESS=Haus der Ingenieure Eschenbachgasse 9 Wien 1010 Österreich;X-APPLE-RADIUS=500;X-TITLE=Eschenbachgasse 9:geo:16.3634656,48.2020415
END:VEVENT
BEGIN:VEVENT
DTSTART;TZID=Europe/Vienna:20261010T090000
DTEND;TZID=Europe/Vienna:20261010T140000
DTSTAMP:20260421T030814
CREATED:20260312T130704Z
LAST-MODIFIED:20260415T092706Z
UID:10000397-1791622800-1791640800@medahead-fortbildung.at
SUMMARY:Best of Neurology 2026
DESCRIPTION:Präsenzveranstaltung\nVorsitz:  Prim. Univ.-Prof. Dr. Jörg R. Weber & Prim.a Priv.-Doz.in Dr.in Julia Ferrari \n  \n\nThemenschwerpunkte:  \n\nMultiple Sklerose\nMyasthenia gravis\nDemenzen\nNeuroonkologie\nEpilepsie\nSchlaganfall\nHot Topic: Impfen und Neurologie\n\nDiese Veranstaltung ist nur für medizinisches Fachpersonal. \n\nWenn Sie diese Fortbildung als Sponsor unterstützen wollen\, senden Sie HIER ein Mail an unser Salesteam \n\n 
URL:https://medahead-fortbildung.at/event/best-of-neurology-2026/
LOCATION:Haus der Ingenieure\, Eschenbachgasse 9\, Wien\, 1010\, Österreich
CATEGORIES:Neurologie
ATTACH;FMTTYPE=image/jpeg:https://medahead-fortbildung.at/wp-content/uploads/2026/03/F-Banner_1280x412px-3.jpg
GEO:48.2020415;16.3634656
X-APPLE-STRUCTURED-LOCATION;VALUE=URI;X-ADDRESS=Haus der Ingenieure Eschenbachgasse 9 Wien 1010 Österreich;X-APPLE-RADIUS=500;X-TITLE=Eschenbachgasse 9:geo:16.3634656,48.2020415
END:VEVENT
BEGIN:VEVENT
DTSTART;VALUE=DATE:20261120
DTEND;VALUE=DATE:20261121
DTSTAMP:20260421T030814
CREATED:20260219T111725Z
LAST-MODIFIED:20260219T111725Z
UID:10000387-1795132800-1795219199@medahead-fortbildung.at
SUMMARY:ALTER NEU DENKEN 2026
DESCRIPTION:Interdisziplinärer Kongress zur Altersversorgung in Österreich\nPräsenzveranstaltung\nVorsitz: Mag.a Beate Hartinger-Klein & Ass.-Prof.in Dr.in Rhoia Clara Neidenbach \n\nAnrechenbarkeit der Veranstaltung: \nAFP (pharmazeutisch\, Präsenz): Punkte werden eingereicht\nDFP-Punkte: Punkte werden eingereicht\nÖGKV PFP® (Pflegefortbildungspunkte) (2 ÖGKV PFP® = 1 Fortbildungsstunde laut GuKG) \nDiese Veranstaltung ist nur für medizinisches Fachpersonal. \n  \n\nWenn Sie diese Fortbildung als Sponsor unterstützen wollen\, senden Sie HIER ein Mail an unser Salesteam \n\n 
URL:https://medahead-fortbildung.at/event/alter-neu-denken-2026/
LOCATION:Haus der Ingenieure\, Eschenbachgasse 9\, Wien\, 1010\, Österreich
CATEGORIES:Allgemeinmedizin,Geriatrie,Pflege
ATTACH;FMTTYPE=image/jpeg:https://medahead-fortbildung.at/wp-content/uploads/2026/02/Alter-neu-denken_F-Banner_1280x412px.jpg
GEO:48.2020415;16.3634656
X-APPLE-STRUCTURED-LOCATION;VALUE=URI;X-ADDRESS=Haus der Ingenieure Eschenbachgasse 9 Wien 1010 Österreich;X-APPLE-RADIUS=500;X-TITLE=Eschenbachgasse 9:geo:16.3634656,48.2020415
END:VEVENT
END:VCALENDAR