BEGIN:VCALENDAR
VERSION:2.0
PRODID:-//MEDahead- Fortbildung für Ärzte - ECPv6.6.1//NONSGML v1.0//EN
CALSCALE:GREGORIAN
METHOD:PUBLISH
X-ORIGINAL-URL:https://medahead-fortbildung.at
X-WR-CALDESC:Veranstaltungen für MEDahead- Fortbildung für Ärzte
REFRESH-INTERVAL;VALUE=DURATION:PT1H
X-Robots-Tag:noindex
X-PUBLISHED-TTL:PT1H
BEGIN:VTIMEZONE
TZID:Europe/Vienna
BEGIN:DAYLIGHT
TZOFFSETFROM:+0100
TZOFFSETTO:+0200
TZNAME:CEST
DTSTART:20210328T010000
END:DAYLIGHT
BEGIN:STANDARD
TZOFFSETFROM:+0200
TZOFFSETTO:+0100
TZNAME:CET
DTSTART:20211031T010000
END:STANDARD
BEGIN:DAYLIGHT
TZOFFSETFROM:+0100
TZOFFSETTO:+0200
TZNAME:CEST
DTSTART:20220327T010000
END:DAYLIGHT
BEGIN:STANDARD
TZOFFSETFROM:+0200
TZOFFSETTO:+0100
TZNAME:CET
DTSTART:20221030T010000
END:STANDARD
END:VTIMEZONE
BEGIN:VEVENT
DTSTART;TZID=Europe/Vienna:20221112T093000
DTEND;TZID=Europe/Vienna:20221112T144500
DTSTAMP:20260420T210155
CREATED:20220427T074301Z
LAST-MODIFIED:20221107T090209Z
UID:10000056-1668245400-1668264300@medahead-fortbildung.at
SUMMARY:8. Kongress Gyn-Aktiv Kompakt
DESCRIPTION:Ausgewiesene Experten halten Vorträge aus Teilbereichen des Faches Frauenheilkunde und Geburtshilfe. \nDen TeilnehmerInnen sollen so aktuelle Entwicklungen und praxisrelevantes Fachwissen übermittelt werden. \n  \nWissenschaftliche Leitung: \nUniv.-Prof. Dr. Christian Singer \nUniv.-Prof. Dr. Sepp Leodolter \n  \nThemenübersicht: \n-Uterus myomatosus \n-Epigenetisches Altern \n-Blutungsstörungen bei Jugendlichen \n-Die Top-10 Studien 2022 \n-NI-PT – FISH – WES – Carrier-Screening\, was bedeuten Fortschritte in der Genetik für meine Schwangerenbetreuung? \n-Zervixkarzinom-Vorsorge\, ein Update \n-Genetische Beratung in der gynäkologischen Praxis \n  \nDownload: Einladung  \nDownload: Programm \nAnrechenbarkeit der Veranstaltung: \n5 Punkte (ID:745608) \n  \nTeilnahmegebühren: EUR 90\,– (Kosten inkl. Kongressunterlagen und Verpflegung inkl. MwSt.) \nBitte um Überweisung bis 7. November 2022 auf folgendes Konto: \nMEDahead | IBAN: AT42 1500 0002 2119 6603 | BIC: OBKLAT2L \nVerwendungszweck: Gyn-Aktiv Kompakt 11950 \nBei Nicht-Einzahlung wird Ihre Anmeldung nicht berücksichtigt. Bitte nehmen Sie die Überweisungsbestätigung zur Veranstaltung mit. Diese Veranstaltung ist nur für medizinisches Fachpersonal. Bei Nichterscheinen verfällt die Teilnahmegebühr. Stornierung Ihrer Teilnahme: Stornierungen werden nur schriftlich entgegengenommen. Eine kostenfreie Stornierung ist bis 10 Tage vor dem Kongress möglich (Teilnahmegebühr wird refundiert)\, danach verfällt die Gebühr zu 100 %. \n  \n\n                \n                        \n                            Anmeldung 8. KONGRESS GYN AKTIV\n                            Bitte tragen Sie unten Ihre Informationen in die jeweiligen Felder ein. \nMit einem * markierte Felder sind Pflichtfelder. \n                        \n                        HiddenVeranstaltung\n					\n				Titel Vorname* Nachname* ÖÄK-Arztnummer / BAN-Nummer* Fachrichtung* Institution / Abteilung Rabatt-Code E-Mail*\n                            \n                        MEDahead Datenschutz* Ich stimme der Datenschutzerklärung zu.  Wir weisen Sie darauf hin\, dass Ihre Daten (Name\, Fachgebiet\, E-Mail\, ÖÄK-Arztnummer)\, als Teilnehmerliste dem Ärztlichen Fortbildungsanbieter und in Folge der Österreichischen Akademie der Ärzte GmbH zum Zweck der Administrierung der DFP-Fortbildungspunkte übermittelt werden. Sollten Sie mit dieser Vorgangsweise nicht einverstanden sein\, melden Sie sich bitte bei datenschutz@medahead.atMEDahead Newsletter Ich möchte weitere Informationen zu medizinischen Fortbildungsveranstaltungen der Firma MEDahead erhalten und ich stimme zu\, dass meine persönlichen Daten (Name\, Fachgebiet\, E-Mail und ÖÄK-Nummer) zum Zweck der Zusendung von Informationen von MEDahead verarbeitet werden. Diese Einwilligung kann jederzeit über datenschutz@medahead.at widerrufen werden.\n          \n            \n            \n            \n            \n            \n            \n            \n            \n            \n        \n                        \n                        \n\n\nWenn Sie diese Fortbildung als Sponsor unterstützen möchten\, senden Sie HIER ein Mail an Sales. \n\n 
URL:https://medahead-fortbildung.at/event/8-kongress-gyn-aktiv-kompakt/
LOCATION:Hilton Vienna Park\, Am Stadtpark 1\, Wien\, 1030\, Österreich
CATEGORIES:Gynäkologie
ATTACH;FMTTYPE=image/jpeg:https://medahead-fortbildung.at/wp-content/uploads/F-Banner_GYN-AKTIV_2022_1280x412px_b.jpg
GEO:48.2062268;16.3833767
X-APPLE-STRUCTURED-LOCATION;VALUE=URI;X-ADDRESS=Hilton Vienna Park Am Stadtpark 1 Wien 1030 Österreich;X-APPLE-RADIUS=500;X-TITLE=Am Stadtpark 1:geo:16.3833767,48.2062268
END:VEVENT
BEGIN:VEVENT
DTSTART;TZID=Europe/Vienna:20210925T090000
DTEND;TZID=Europe/Vienna:20210925T150000
DTSTAMP:20260420T210155
CREATED:20201119T094536Z
LAST-MODIFIED:20220809T114558Z
UID:10000101-1632560400-1632582000@medahead-fortbildung.at
SUMMARY:07. Kongress Gyn-Aktiv kompakt
DESCRIPTION:Der “Kongress Gyn-Aktiv kompakt” findet auch im Jahr 2022 statt.\n⇒ HIER kommen Sie zur aktuellen Kongressseite! ⇐\n  \n\n 
URL:https://medahead-fortbildung.at/event/07-kongress-gyn-aktiv-kompakt/
LOCATION:Hilton Vienna Park\, Am Stadtpark 1\, Wien\, 1030\, Österreich
CATEGORIES:Allgemeinmedizin,Gynäkologie
GEO:48.2062268;16.3833767
X-APPLE-STRUCTURED-LOCATION;VALUE=URI;X-ADDRESS=Hilton Vienna Park Am Stadtpark 1 Wien 1030 Österreich;X-APPLE-RADIUS=500;X-TITLE=Am Stadtpark 1:geo:16.3833767,48.2062268
END:VEVENT
END:VCALENDAR