BEGIN:VCALENDAR
VERSION:2.0
PRODID:-//MEDahead- Fortbildung für Ärzte - ECPv6.6.1//NONSGML v1.0//EN
CALSCALE:GREGORIAN
METHOD:PUBLISH
X-WR-CALNAME:MEDahead- Fortbildung für Ärzte
X-ORIGINAL-URL:https://medahead-fortbildung.at
X-WR-CALDESC:Veranstaltungen für MEDahead- Fortbildung für Ärzte
REFRESH-INTERVAL;VALUE=DURATION:PT1H
X-Robots-Tag:noindex
X-PUBLISHED-TTL:PT1H
BEGIN:VTIMEZONE
TZID:Europe/Vienna
BEGIN:DAYLIGHT
TZOFFSETFROM:+0100
TZOFFSETTO:+0200
TZNAME:CEST
DTSTART:20260329T010000
END:DAYLIGHT
BEGIN:STANDARD
TZOFFSETFROM:+0200
TZOFFSETTO:+0100
TZNAME:CET
DTSTART:20261025T010000
END:STANDARD
END:VTIMEZONE
BEGIN:VEVENT
DTSTART;TZID=Europe/Vienna:20261019T173000
DTEND;TZID=Europe/Vienna:20261019T203000
DTSTAMP:20260422T103206
CREATED:20250625T094601Z
LAST-MODIFIED:20260302T084021Z
UID:10000335-1792431000-1792441800@medahead-fortbildung.at
SUMMARY:Akne inversa-Patient:in
DESCRIPTION:häufig gesehen & trotzdem übersehen\nIm interdisziplinären Dialog: Perspektiven & Best Practices aus Gynäkologie\, Allgemeinmedizin\, Chirurgie und Dermatologie\n  \nProgramm sowie weitere Details folgen! \n  \nHinweis \nTeilnahme an der Veranstaltung ist kostenfrei. Anmeldung erforderlich! \nBitte beachten Sie\, dass diese Veranstaltung ausschließlich für medizinisches Fachpersonal vorgesehen ist! \n  \nEine Veranstaltung von: \n[layerslider id=”257″] \nAT-DA-2600008 (02/2026)
URL:https://medahead-fortbildung.at/event/akne-inversa-patient/
LOCATION:Hotel Hilton Plaza\, Schottenring 11\, Wien\, 1010\, Österreich
CATEGORIES:Allgemeinmedizin,Dermatologie,Gynäkologie,Innere Medizin,Kardiologie
ATTACH;FMTTYPE=image/jpeg:https://medahead-fortbildung.at/wp-content/uploads/2026/02/F-Banner_AkneInversaPatientin26_1280x412px.jpg
END:VEVENT
END:VCALENDAR