BEGIN:VCALENDAR
VERSION:2.0
PRODID:-//MEDahead- Fortbildung für Ärzte - ECPv6.6.1//NONSGML v1.0//EN
CALSCALE:GREGORIAN
METHOD:PUBLISH
X-ORIGINAL-URL:https://medahead-fortbildung.at
X-WR-CALDESC:Veranstaltungen für MEDahead- Fortbildung für Ärzte
REFRESH-INTERVAL;VALUE=DURATION:PT1H
X-Robots-Tag:noindex
X-PUBLISHED-TTL:PT1H
BEGIN:VTIMEZONE
TZID:Europe/Vienna
BEGIN:DAYLIGHT
TZOFFSETFROM:+0100
TZOFFSETTO:+0200
TZNAME:CEST
DTSTART:20210328T010000
END:DAYLIGHT
BEGIN:STANDARD
TZOFFSETFROM:+0200
TZOFFSETTO:+0100
TZNAME:CET
DTSTART:20211031T010000
END:STANDARD
END:VTIMEZONE
BEGIN:VEVENT
DTSTART;TZID=Europe/Vienna:20210918T093000
DTEND;TZID=Europe/Vienna:20210918T151500
DTSTAMP:20260424T163034
CREATED:20210217T132734Z
LAST-MODIFIED:20220809T114014Z
UID:10000132-1631957400-1631978100@medahead-fortbildung.at
SUMMARY:Wrap-Up Kardiologie ESC 2021
DESCRIPTION:Die Veranstaltung “Wrap- Up Kardiologie ESC” findet auch im Jahr 2022 statt. \n  \n⇒HIER kommen Sie zur aktuellen Kongressseite!⇐
URL:https://medahead-fortbildung.at/event/wrap-up-esc-2021/
LOCATION:Tagungszentrum Schönbrunn\, Schönbrunner Schloßstraße 45\, Wien\, 1130\, Österreich
CATEGORIES:Allgemeinmedizin,Kardiologie
GEO:48.1847065;16.3200471
X-APPLE-STRUCTURED-LOCATION;VALUE=URI;X-ADDRESS=Tagungszentrum Schönbrunn Schönbrunner Schloßstraße 45 Wien 1130 Österreich;X-APPLE-RADIUS=500;X-TITLE=Schönbrunner Schloßstraße 45:geo:16.3200471,48.1847065
END:VEVENT
END:VCALENDAR