BEGIN:VCALENDAR
VERSION:2.0
PRODID:-//MEDahead- Fortbildung für Ärzte - ECPv6.6.1//NONSGML v1.0//EN
CALSCALE:GREGORIAN
METHOD:PUBLISH
X-WR-CALNAME:MEDahead- Fortbildung für Ärzte
X-ORIGINAL-URL:https://medahead-fortbildung.at
X-WR-CALDESC:Veranstaltungen für MEDahead- Fortbildung für Ärzte
REFRESH-INTERVAL;VALUE=DURATION:PT1H
X-Robots-Tag:noindex
X-PUBLISHED-TTL:PT1H
BEGIN:VTIMEZONE
TZID:Europe/Vienna
BEGIN:DAYLIGHT
TZOFFSETFROM:+0100
TZOFFSETTO:+0200
TZNAME:CEST
DTSTART:20220327T010000
END:DAYLIGHT
BEGIN:STANDARD
TZOFFSETFROM:+0200
TZOFFSETTO:+0100
TZNAME:CET
DTSTART:20221030T010000
END:STANDARD
END:VTIMEZONE
BEGIN:VEVENT
DTSTART;TZID=Europe/Vienna:20220531T184500
DTEND;TZID=Europe/Vienna:20220531T203000
DTSTAMP:20260420T172038
CREATED:20220325T082045Z
LAST-MODIFIED:20220530T133949Z
UID:10000193-1654022700-1654029000@medahead-fortbildung.at
SUMMARY:Hyperlipidemia Academy\, Lipide in der Praxis-interdisziplinär betrachtet
DESCRIPTION:Programm: \nVorsitz: Univ.-Prof. Priv.-Doz. Dr. Harald Sourij\, MedUni Graz \n  \n19:00 Uhr                      Begrüßung \n19:05–19:40 Uhr           Interaktive Fallbeispiele – Die Sicht der Kardiologin \n                                      OÄ Priv.-Doz. Dr. Sabine Perl\, MedUni Graz \n19:40–20:15 Uhr           Interaktive Fallbeispiele – Die Sicht des Stoffwechselzentrums \n                                      Univ.-Prof. Priv.-Doz. Dr. Harald Sourij\, MedUni Graz \n20:15–20:30 Uhr           Podiumsdiskussion \n  \nIm Anschluss Erfahrungs- und Meinungsaustausch mit Arbeitsessen \n  \nProgrammänderungen vorbehalten! \n  \n  \nDownload: [analyseLink label=’Einladung’ link=’https://medahead-fortbildung.at/wp-content/uploads/Einladung_HyperlipidemiaAcademy_31.Mai2022_DFP.pdf’ action=’Download Einladung’ action_code_id=’2a0f6cdb-2e96-4acc-8708-b9a6c5017384′] \n  \n  \nFür Rückfragen kontaktieren Sie bitte: \nMEDahead GmbH\, Fr. Schnecker unter Tel.: 01/607 02 33-65 oder k.schnecker@medahead.at \n  \n  \nVeranstalter: MedFor – Verein zur medizinischen Fortbildung von Ärzt/innen \n  \nAnrechenbarkeit der Veranstaltung: \nDie Fortbildung ist für das Diplom-Fortbildungs-Programm der \nÖsterreichischen Ärztekammer mit 2 medizinischen DFP-Punkten approbiert \n  \nEintritt frei! \nAnmeldung erforderlich. Anmeldeschluss: 1 Woche vor dem Veranstaltungstermin \n  \nBitte haben Sie Verständnis\, dass aufgrund der geltenden Pharmig-\, Amgen und Ärztekammer-Verhaltenskodizes die Teilnahme nur für Ausübende von Gesundheitsberufen möglich ist.\nDiese Veranstaltung ist ausschließlich für medizinisches Fachpersonal. \n  \n  \n\nSehr geehrte Teilnehmerinnen\, \nsehr geehrte Teilnehmer\, \n  \ndie Anmeldung wurde bereits geschlossen. Es gibt allerdings noch Restplätze vor Ort. \nVeranstaltungsort: Schlossberghotel\, Kaiser-Franz-Josef-Kai 30\, 8010 Graz  (keine Online-Übertragung!!!) \n(Anreise: Straßenbahn/Bus-Haltestelle „Schlossbergbahn“ // Kastner&Öhler Parkgarage „Kaiser-Franz-Josef-Kai 8“\, Parkkosten werden nicht übernommen) \n  \nMit besten Grüßen \nKerstin Schnecker \nMobil: +43 699 15052712 \nE-Mail: k.schnecker@medahead.at \n  \n  \n  \n  \n  \n 
URL:https://medahead-fortbildung.at/event/hla-mai2022/
LOCATION:Schlossberghotel\, Graz\, Kaiser-Franz-Josef-Kai 30\, Graz\, 8010
CATEGORIES:Allgemeinmedizin
ATTACH;FMTTYPE=image/jpeg:https://medahead-fortbildung.at/wp-content/uploads/Amg_HLA-Mai-22_F-Banner_1280x412px.jpg
GEO:47.0744636;15.4353814
X-APPLE-STRUCTURED-LOCATION;VALUE=URI;X-ADDRESS=Schlossberghotel Graz Kaiser-Franz-Josef-Kai 30 Graz 8010;X-APPLE-RADIUS=500;X-TITLE=Kaiser-Franz-Josef-Kai 30:geo:15.4353814,47.0744636
END:VEVENT
END:VCALENDAR