BEGIN:VCALENDAR
VERSION:2.0
PRODID:-//MEDahead- Fortbildung für Ärzte - ECPv6.6.1//NONSGML v1.0//EN
CALSCALE:GREGORIAN
METHOD:PUBLISH
X-ORIGINAL-URL:https://medahead-fortbildung.at
X-WR-CALDESC:Veranstaltungen für MEDahead- Fortbildung für Ärzte
REFRESH-INTERVAL;VALUE=DURATION:PT1H
X-Robots-Tag:noindex
X-PUBLISHED-TTL:PT1H
BEGIN:VTIMEZONE
TZID:Europe/Vienna
BEGIN:DAYLIGHT
TZOFFSETFROM:+0100
TZOFFSETTO:+0200
TZNAME:CEST
DTSTART:20220327T010000
END:DAYLIGHT
BEGIN:STANDARD
TZOFFSETFROM:+0200
TZOFFSETTO:+0100
TZNAME:CET
DTSTART:20221030T010000
END:STANDARD
END:VTIMEZONE
BEGIN:VEVENT
DTSTART;TZID=Europe/Vienna:20221107T130000
DTEND;TZID=Europe/Vienna:20221108T170000
DTSTAMP:20260422T032129
CREATED:20220124T092530Z
LAST-MODIFIED:20221020T160513Z
UID:10000039-1667826000-1667926800@medahead-fortbildung.at
SUMMARY:12. Wiener Fortbildungstage für Krankenhaus­management
DESCRIPTION:Bereit für morgen?!\nDie Wiener Fortbildungstage sind eine Veranstaltung der Arbeitsgemeinschaft (ARGE) der Krankenhausmanager Wiens\, ZVR 332777419 \n  \nWissenschaftlicher Beirat und Organisationsteam der ARGE:  \nProf. Dipl. KH.Bw. Anton Pohl\, Dir. Gerhard Jaksch\, HR Mag. Michael Bailer \n  \nBlock I: nachhaltig & umweltbewusst \nKlimawandel / das grüne Krankenhaus / Krankenhaustechnik \n  \nBlock II: work-life-balance & personal \nArbeitszeit / Arbeitszufriedenheit / corporate identity \n  \nBlock III: bereit für morgen \ndigitale Innovation / künstliche Intelligenz \n  \nFachausstellung unserer innovativen Partner \n  \nDownload: Programm \n  \nTeilnahmekosten: \nFrühbucher bis 30.9.2022: EUR 295\,- \nNormalpreis ab 01.10.2022: EUR 345\,- \n  \n\n  \n  \n  \nWie danken unseren Sponsoren: \n  \n[layerslider id=”139″]
URL:https://medahead-fortbildung.at/event/wft2022/
LOCATION:Wiener Rathaus\, Wappensaal\, Lichtenfelsgasse 2\, Feststiege 2\, Wien\, 1010\, Österreich
ATTACH;FMTTYPE=image/jpeg:https://medahead-fortbildung.at/wp-content/uploads/F-Banner_FB-Tage-KH-Management_1280x412px.jpg
END:VEVENT
END:VCALENDAR